BEGIN:VCALENDAR
VERSION:2.0
PRODID:-//R2020 - ECPv5.14.0.2//NONSGML v1.0//EN
CALSCALE:GREGORIAN
METHOD:PUBLISH
X-WR-CALNAME:R2020
X-ORIGINAL-URL:https://r2020.info
X-WR-CALDESC:Eventi per R2020
REFRESH-INTERVAL;VALUE=DURATION:PT1H
X-Robots-Tag:noindex
X-PUBLISHED-TTL:PT1H
BEGIN:VTIMEZONE
TZID:Europe/Rome
BEGIN:DAYLIGHT
TZOFFSETFROM:+0100
TZOFFSETTO:+0200
TZNAME:CEST
DTSTART:20200329T010000
END:DAYLIGHT
BEGIN:STANDARD
TZOFFSETFROM:+0200
TZOFFSETTO:+0100
TZNAME:CET
DTSTART:20201025T010000
END:STANDARD
END:VTIMEZONE
BEGIN:VEVENT
DTSTART;TZID=Europe/Rome:20201221T190000
DTEND;TZID=Europe/Rome:20201221T210000
DTSTAMP:20260419T171644
CREATED:20201218T173411Z
LAST-MODIFIED:20210923T155420Z
UID:4601-1608577200-1608584400@r2020.info
SUMMARY:Fuoco di Garda Bresciano BS - Riunione
DESCRIPTION:PROSSIMO INCONTRO TRA I MEMBRI DEL GRUPPO:\nLunedì 21 dicembre 2020\, ore 19:00\, tramite Jitsi
URL:https://r2020.info/event/fuoco-di-garda-bresciano-bs-riunione/
LOCATION:online
CATEGORIES:Eventi Fuochi
END:VEVENT
END:VCALENDAR