BEGIN:VCALENDAR
VERSION:2.0
PRODID:-//R2020 - ECPv5.14.0.2//NONSGML v1.0//EN
CALSCALE:GREGORIAN
METHOD:PUBLISH
X-WR-CALNAME:R2020
X-ORIGINAL-URL:https://r2020.info
X-WR-CALDESC:Eventi per R2020
REFRESH-INTERVAL;VALUE=DURATION:PT1H
X-Robots-Tag:noindex
X-PUBLISHED-TTL:PT1H
BEGIN:VTIMEZONE
TZID:Europe/Rome
BEGIN:DAYLIGHT
TZOFFSETFROM:+0100
TZOFFSETTO:+0200
TZNAME:CEST
DTSTART:20200329T010000
END:DAYLIGHT
BEGIN:STANDARD
TZOFFSETFROM:+0200
TZOFFSETTO:+0100
TZNAME:CET
DTSTART:20201025T010000
END:STANDARD
END:VTIMEZONE
BEGIN:VEVENT
DTSTART;TZID=Europe/Rome:20201202T080000
DTEND;TZID=Europe/Rome:20201202T170000
DTSTAMP:20260419T170735
CREATED:20201127T190344Z
LAST-MODIFIED:20210923T155420Z
UID:3925-1606896000-1606928400@r2020.info
SUMMARY:r2020 prova
DESCRIPTION:prova prova
URL:https://r2020.info/event/r2020-prova/
LOCATION:online
CATEGORIES:Eventi Fuochi
ATTACH;FMTTYPE=image/jpeg:https://r2020.info/wp-content/uploads/2020/11/69cfbd0e711dbb51bec15c0be9168f1e_XL.jpg
ORGANIZER;CN="R2020":MAILTO:info@r2020.it
END:VEVENT
END:VCALENDAR