BEGIN:VCALENDAR
VERSION:2.0
PRODID:-//R2020 - ECPv5.14.0.2//NONSGML v1.0//EN
CALSCALE:GREGORIAN
METHOD:PUBLISH
X-WR-CALNAME:R2020
X-ORIGINAL-URL:https://r2020.info
X-WR-CALDESC:Eventi per R2020
REFRESH-INTERVAL;VALUE=DURATION:PT1H
X-Robots-Tag:noindex
X-PUBLISHED-TTL:PT1H
BEGIN:VTIMEZONE
TZID:Europe/Rome
BEGIN:DAYLIGHT
TZOFFSETFROM:+0100
TZOFFSETTO:+0200
TZNAME:CEST
DTSTART:20200329T010000
END:DAYLIGHT
BEGIN:STANDARD
TZOFFSETFROM:+0200
TZOFFSETTO:+0100
TZNAME:CET
DTSTART:20201025T010000
END:STANDARD
END:VTIMEZONE
BEGIN:VEVENT
DTSTART;TZID=Europe/Rome:20201127T190000
DTEND;TZID=Europe/Rome:20201127T200000
DTSTAMP:20260419T170448
CREATED:20201126T153755Z
LAST-MODIFIED:20210923T155420Z
UID:3860-1606503600-1606507200@r2020.info
SUMMARY:R2020 Formazione/comunicazione interna sito di R2020
DESCRIPTION:Ciao a tutti\,\nvenerdì 27 novembre\, alle ore 19.00 ci sarà un incontro zoom su formazione/comunicazione R2020.\n\nDurante l’incontro spiegheremo:\n1. come impostare i materiali prodotti ai fini della pubblicazione\n2. come utilizzare il sito (inserimento articoli\, documenti e ricerca)\n3. come interagire con la commissione comunicazione che si occuperà di supportare le\ncommissioni nella divulgazione dei materiali prodotti\n4. come utilizzare la casella mail e le newsletter.\n\nE’ importante che ci sia almeno una persona per ogni commissione\, qualora non possa esserci il coordinatore sarebbe importante ci fosse comunque qualcuno che poi spiegherà il tutto al resto dei partecipanti.
URL:https://r2020.info/event/r2020-formazione-comunicazione-interna-sito-di-r2020/
LOCATION:online
CATEGORIES:Eventi Fuochi
ATTACH;FMTTYPE=image/jpeg:https://r2020.info/wp-content/uploads/2020/11/adam-jang-8pOTAtyd_Mc-unsplash-1.jpg
ORGANIZER;CN="r2020":MAILTO:info@r2020.it
END:VEVENT
END:VCALENDAR